BEGIN:VCALENDAR
VERSION:2.0
PRODID:-//YourFMO - ECPv6.15.15//NONSGML v1.0//EN
CALSCALE:GREGORIAN
METHOD:PUBLISH
X-WR-CALNAME:YourFMO
X-ORIGINAL-URL:https://yourfmo.com
X-WR-CALDESC:Events for YourFMO
REFRESH-INTERVAL;VALUE=DURATION:PT1H
X-Robots-Tag:noindex
X-PUBLISHED-TTL:PT1H
BEGIN:VTIMEZONE
TZID:America/New_York
BEGIN:DAYLIGHT
TZOFFSETFROM:-0500
TZOFFSETTO:-0400
TZNAME:EDT
DTSTART:20250309T070000
END:DAYLIGHT
BEGIN:STANDARD
TZOFFSETFROM:-0400
TZOFFSETTO:-0500
TZNAME:EST
DTSTART:20251102T060000
END:STANDARD
BEGIN:DAYLIGHT
TZOFFSETFROM:-0500
TZOFFSETTO:-0400
TZNAME:EDT
DTSTART:20260308T070000
END:DAYLIGHT
BEGIN:STANDARD
TZOFFSETFROM:-0400
TZOFFSETTO:-0500
TZNAME:EST
DTSTART:20261101T060000
END:STANDARD
BEGIN:DAYLIGHT
TZOFFSETFROM:-0500
TZOFFSETTO:-0400
TZNAME:EDT
DTSTART:20270314T070000
END:DAYLIGHT
BEGIN:STANDARD
TZOFFSETFROM:-0400
TZOFFSETTO:-0500
TZNAME:EST
DTSTART:20271107T060000
END:STANDARD
END:VTIMEZONE
BEGIN:VEVENT
DTSTART;TZID=America/New_York:20260728T130000
DTEND;TZID=America/New_York:20260728T140000
DTSTAMP:20260421T092418
CREATED:20260107T194158Z
LAST-MODIFIED:20260107T194158Z
UID:10005943-1785243600-1785247200@yourfmo.com
SUMMARY:National Life Group - Estate Planning for Foreign Nationals
DESCRIPTION:
URL:https://yourfmo.com/webinar/national-life-group-estate-planning-for-foreign-nationals/
END:VEVENT
END:VCALENDAR