BEGIN:VCALENDAR
VERSION:2.0
PRODID:-//YourFMO - ECPv6.15.15//NONSGML v1.0//EN
CALSCALE:GREGORIAN
METHOD:PUBLISH
X-ORIGINAL-URL:https://yourfmo.com
X-WR-CALDESC:Events for YourFMO
REFRESH-INTERVAL;VALUE=DURATION:PT1H
X-Robots-Tag:noindex
X-PUBLISHED-TTL:PT1H
BEGIN:VTIMEZONE
TZID:America/New_York
BEGIN:DAYLIGHT
TZOFFSETFROM:-0500
TZOFFSETTO:-0400
TZNAME:EDT
DTSTART:20250309T070000
END:DAYLIGHT
BEGIN:STANDARD
TZOFFSETFROM:-0400
TZOFFSETTO:-0500
TZNAME:EST
DTSTART:20251102T060000
END:STANDARD
BEGIN:DAYLIGHT
TZOFFSETFROM:-0500
TZOFFSETTO:-0400
TZNAME:EDT
DTSTART:20260308T070000
END:DAYLIGHT
BEGIN:STANDARD
TZOFFSETFROM:-0400
TZOFFSETTO:-0500
TZNAME:EST
DTSTART:20261101T060000
END:STANDARD
BEGIN:DAYLIGHT
TZOFFSETFROM:-0500
TZOFFSETTO:-0400
TZNAME:EDT
DTSTART:20270314T070000
END:DAYLIGHT
BEGIN:STANDARD
TZOFFSETFROM:-0400
TZOFFSETTO:-0500
TZNAME:EST
DTSTART:20271107T060000
END:STANDARD
END:VTIMEZONE
BEGIN:VEVENT
DTSTART;TZID=America/New_York:20260302T110000
DTEND;TZID=America/New_York:20260302T113000
DTSTAMP:20260421T055452
CREATED:20260313T170705Z
LAST-MODIFIED:20260313T170705Z
UID:10006059-1772449200-1772451000@yourfmo.com
SUMMARY:Guarantee Trust Life - Advantage Plus ELITE
DESCRIPTION:
URL:https://yourfmo.com/webinar/guarantee-trust-life-advantage-plus-elite/
END:VEVENT
BEGIN:VEVENT
DTSTART;TZID=America/New_York:20260303T110000
DTEND;TZID=America/New_York:20260303T113000
DTSTAMP:20260421T055452
CREATED:20260313T170706Z
LAST-MODIFIED:20260313T170706Z
UID:10006060-1772535600-1772537400@yourfmo.com
SUMMARY:UnitedHealthcare - Sales Solutions for Senior Clients
DESCRIPTION:
URL:https://yourfmo.com/webinar/unitedhealthcare-sales-solutions-for-senior-clients/
END:VEVENT
BEGIN:VEVENT
DTSTART;TZID=America/New_York:20260303T110000
DTEND;TZID=America/New_York:20260303T113000
DTSTAMP:20260421T055452
CREATED:20260313T170707Z
LAST-MODIFIED:20260313T170707Z
UID:10006061-1772535600-1772537400@yourfmo.com
SUMMARY:Americo - Americo Fast Track: Essential Training for New Agents
DESCRIPTION:
URL:https://yourfmo.com/webinar/americo-americo-fast-track-essential-training-for-new-agents-13/
END:VEVENT
BEGIN:VEVENT
DTSTART;TZID=America/New_York:20260303T110000
DTEND;TZID=America/New_York:20260303T113000
DTSTAMP:20260421T055452
CREATED:20260313T170709Z
LAST-MODIFIED:20260313T170709Z
UID:10006062-1772535600-1772537400@yourfmo.com
SUMMARY:Wellabe | Medico - Tuesday Talk!
DESCRIPTION:
URL:https://yourfmo.com/webinar/wellabe-medico-tuesday-talk-13/
END:VEVENT
BEGIN:VEVENT
DTSTART;TZID=America/New_York:20260303T150000
DTEND;TZID=America/New_York:20260303T153000
DTSTAMP:20260421T055452
CREATED:20260313T170710Z
LAST-MODIFIED:20260313T170710Z
UID:10006063-1772550000-1772551800@yourfmo.com
SUMMARY:Guarantee Trust Life - Heritage Life
DESCRIPTION:
URL:https://yourfmo.com/webinar/guarantee-trust-life-heritage-life/
END:VEVENT
BEGIN:VEVENT
DTSTART;TZID=America/New_York:20260304T110000
DTEND;TZID=America/New_York:20260304T113000
DTSTAMP:20260421T055452
CREATED:20260313T170713Z
LAST-MODIFIED:20260313T170713Z
UID:10006064-1772622000-1772623800@yourfmo.com
SUMMARY:Guarantee Trust Life - Short Term Home Health Care
DESCRIPTION:
URL:https://yourfmo.com/webinar/guarantee-trust-life-short-term-home-health-care-2/
END:VEVENT
BEGIN:VEVENT
DTSTART;TZID=America/New_York:20260304T110000
DTEND;TZID=America/New_York:20260304T113000
DTSTAMP:20260421T055452
CREATED:20260313T170714Z
LAST-MODIFIED:20260313T170714Z
UID:10006065-1772622000-1772623800@yourfmo.com
SUMMARY:EquiTrust Life -- Help clients get ahead with a powerful premium bonus special offer
DESCRIPTION:
URL:https://yourfmo.com/webinar/equitrust-life-help-clients-get-ahead-with-a-powerful-premium-bonus-special-offer/
END:VEVENT
BEGIN:VEVENT
DTSTART;TZID=America/New_York:20260304T120000
DTEND;TZID=America/New_York:20260304T123000
DTSTAMP:20260421T055452
CREATED:20260313T170716Z
LAST-MODIFIED:20260313T170716Z
UID:10006066-1772625600-1772627400@yourfmo.com
SUMMARY:Athene - Exclusive Sneak Peek: New IMO FIA
DESCRIPTION:
URL:https://yourfmo.com/webinar/athene-exclusive-sneak-peek-new-imo-fia/
END:VEVENT
BEGIN:VEVENT
DTSTART;TZID=America/New_York:20260304T123000
DTEND;TZID=America/New_York:20260304T130000
DTSTAMP:20260421T055452
CREATED:20260313T170717Z
LAST-MODIFIED:20260313T170717Z
UID:10006067-1772627400-1772629200@yourfmo.com
SUMMARY:SILAC - Suitability Pre-Sale Demo Webinar
DESCRIPTION:
URL:https://yourfmo.com/webinar/silac-suitability-pre-sale-demo-webinar/
END:VEVENT
BEGIN:VEVENT
DTSTART;TZID=America/New_York:20260304T150000
DTEND;TZID=America/New_York:20260304T153000
DTSTAMP:20260421T055452
CREATED:20260313T170718Z
LAST-MODIFIED:20260313T170718Z
UID:10006068-1772636400-1772638200@yourfmo.com
SUMMARY:UnitedHealthcare - Sales Solutions for Senior Clients
DESCRIPTION:
URL:https://yourfmo.com/webinar/unitedhealthcare-sales-solutions-for-senior-clients-2/
END:VEVENT
BEGIN:VEVENT
DTSTART;TZID=America/New_York:20260305T110000
DTEND;TZID=America/New_York:20260305T113000
DTSTAMP:20260421T055452
CREATED:20260313T170744Z
LAST-MODIFIED:20260313T170744Z
UID:10006069-1772708400-1772710200@yourfmo.com
SUMMARY:UnitedHealthcare - Sales Solutions for Senior Clients
DESCRIPTION:
URL:https://yourfmo.com/webinar/unitedhealthcare-sales-solutions-for-senior-clients-3/
END:VEVENT
BEGIN:VEVENT
DTSTART;TZID=America/New_York:20260305T110000
DTEND;TZID=America/New_York:20260305T113000
DTSTAMP:20260421T055452
CREATED:20260313T170745Z
LAST-MODIFIED:20260313T170745Z
UID:10006070-1772708400-1772710200@yourfmo.com
SUMMARY:SILAC - TETON 5 & TETON Bonus 5
DESCRIPTION:
URL:https://yourfmo.com/webinar/silac-teton-5-teton-bonus-5-7/
END:VEVENT
BEGIN:VEVENT
DTSTART;TZID=America/New_York:20260305T110000
DTEND;TZID=America/New_York:20260305T113000
DTSTAMP:20260421T055452
CREATED:20260313T170746Z
LAST-MODIFIED:20260313T170746Z
UID:10006071-1772708400-1772710200@yourfmo.com
SUMMARY:Guarantee Trust Life - Advantage Plus ELITE
DESCRIPTION:
URL:https://yourfmo.com/webinar/guarantee-trust-life-advantage-plus-elite-2/
END:VEVENT
BEGIN:VEVENT
DTSTART;TZID=America/New_York:20260305T150000
DTEND;TZID=America/New_York:20260305T153000
DTSTAMP:20260421T055452
CREATED:20260313T170748Z
LAST-MODIFIED:20260313T170748Z
UID:10006072-1772722800-1772724600@yourfmo.com
SUMMARY:Wellabe | Medico - Critical Illness insurance: Help clients build coverage that fits their needs
DESCRIPTION:
URL:https://yourfmo.com/webinar/wellabe-medico-critical-illness-insurance-help-clients-build-coverage-that-fits-their-needs-2/
END:VEVENT
BEGIN:VEVENT
DTSTART;TZID=America/New_York:20260305T150000
DTEND;TZID=America/New_York:20260305T153000
DTSTAMP:20260421T055452
CREATED:20260313T170749Z
LAST-MODIFIED:20260313T170749Z
UID:10006073-1772722800-1772724600@yourfmo.com
SUMMARY:ManhattanLife - Final Expense
DESCRIPTION:
URL:https://yourfmo.com/webinar/manhattanlife-final-expense-2/
END:VEVENT
BEGIN:VEVENT
DTSTART;TZID=America/New_York:20260306T110000
DTEND;TZID=America/New_York:20260306T113000
DTSTAMP:20260421T055452
CREATED:20260313T170814Z
LAST-MODIFIED:20260313T170814Z
UID:10006074-1772794800-1772796600@yourfmo.com
SUMMARY:Guarantee Trust Life - Recover Cash - Short-Term Care Plus Caregiver Benefits
DESCRIPTION:
URL:https://yourfmo.com/webinar/guarantee-trust-life-recover-cash-short-term-care-plus-caregiver-benefits/
END:VEVENT
BEGIN:VEVENT
DTSTART;TZID=America/New_York:20260306T110000
DTEND;TZID=America/New_York:20260306T113000
DTSTAMP:20260421T055452
CREATED:20260313T170815Z
LAST-MODIFIED:20260313T170815Z
UID:10006075-1772794800-1772796600@yourfmo.com
SUMMARY:Americo - Keep More of Your Business: Setting Policy Draft Dates
DESCRIPTION:
URL:https://yourfmo.com/webinar/americo-keep-more-of-your-business-setting-policy-draft-dates/
END:VEVENT
BEGIN:VEVENT
DTSTART;TZID=America/New_York:20260309T113000
DTEND;TZID=America/New_York:20260309T120000
DTSTAMP:20260421T055452
CREATED:20260313T170817Z
LAST-MODIFIED:20260313T170817Z
UID:10006076-1773055800-1773057600@yourfmo.com
SUMMARY:SILAC - SILAC Presents: Why SILAC income wins
DESCRIPTION:
URL:https://yourfmo.com/webinar/silac-silac-presents-why-silac-income-wins/
END:VEVENT
BEGIN:VEVENT
DTSTART;TZID=America/New_York:20260310T090000
DTEND;TZID=America/New_York:20260310T093000
DTSTAMP:20260421T055452
CREATED:20260313T170818Z
LAST-MODIFIED:20260313T170818Z
UID:10006077-1773133200-1773135000@yourfmo.com
SUMMARY:Devoted Health Plans - Devoted Health Agent Onboarding Webinar- Live!
DESCRIPTION:
URL:https://yourfmo.com/webinar/devoted-health-plans-devoted-health-agent-onboarding-webinar-live/
END:VEVENT
BEGIN:VEVENT
DTSTART;TZID=America/New_York:20260310T100000
DTEND;TZID=America/New_York:20260310T103000
DTSTAMP:20260421T055452
CREATED:20260313T170819Z
LAST-MODIFIED:20260313T170819Z
UID:10006078-1773136800-1773138600@yourfmo.com
SUMMARY:Devoted Health Plans - Devoted SEP Bootcamp + AEP Performance
DESCRIPTION:
URL:https://yourfmo.com/webinar/devoted-health-plans-devoted-sep-bootcamp-aep-performance/
END:VEVENT
BEGIN:VEVENT
DTSTART;TZID=America/New_York:20260310T110000
DTEND;TZID=America/New_York:20260310T113000
DTSTAMP:20260421T055452
CREATED:20260313T170844Z
LAST-MODIFIED:20260313T170844Z
UID:10006079-1773140400-1773142200@yourfmo.com
SUMMARY:Americo - Americo Fast Track: Essential Training for New Agents
DESCRIPTION:
URL:https://yourfmo.com/webinar/americo-americo-fast-track-essential-training-for-new-agents-14/
END:VEVENT
BEGIN:VEVENT
DTSTART;TZID=America/New_York:20260310T120000
DTEND;TZID=America/New_York:20260310T123000
DTSTAMP:20260421T055452
CREATED:20260313T170846Z
LAST-MODIFIED:20260313T170846Z
UID:10006080-1773144000-1773145800@yourfmo.com
SUMMARY:Aetna Medicare Solutions - 2026 Virtual Vendor Showcase - California\, Oregon & Washington
DESCRIPTION:
URL:https://yourfmo.com/webinar/aetna-medicare-solutions-2026-virtual-vendor-showcase-california-oregon-washington/
END:VEVENT
BEGIN:VEVENT
DTSTART;TZID=America/New_York:20260310T120000
DTEND;TZID=America/New_York:20260310T123000
DTSTAMP:20260421T055452
CREATED:20260313T170847Z
LAST-MODIFIED:20260313T170847Z
UID:10006081-1773144000-1773145800@yourfmo.com
SUMMARY:Aetna Medicare Solutions - 2026 Virtual Vendor Showcase - Arizona\, Colorado\, Nevada & Utah
DESCRIPTION:
URL:https://yourfmo.com/webinar/aetna-medicare-solutions-2026-virtual-vendor-showcase-arizona-colorado-nevada-utah/
END:VEVENT
BEGIN:VEVENT
DTSTART;TZID=America/New_York:20260310T120000
DTEND;TZID=America/New_York:20260310T123000
DTSTAMP:20260421T055452
CREATED:20260313T170848Z
LAST-MODIFIED:20260313T170848Z
UID:10006082-1773144000-1773145800@yourfmo.com
SUMMARY:Aetna Medicare Solutions - 2026 Virtual Vendor Showcase - Texas & Oklahoma
DESCRIPTION:
URL:https://yourfmo.com/webinar/aetna-medicare-solutions-2026-virtual-vendor-showcase-texas-oklahoma/
END:VEVENT
BEGIN:VEVENT
DTSTART;TZID=America/New_York:20260310T150000
DTEND;TZID=America/New_York:20260310T153000
DTSTAMP:20260421T055452
CREATED:20260313T170849Z
LAST-MODIFIED:20260313T170849Z
UID:10006083-1773154800-1773156600@yourfmo.com
SUMMARY:UnitedHealthcare - AdvantageGuard - Hospital Indemnity Insurance Designed to Complement Seniors ’ Health Insurance Plans
DESCRIPTION:
URL:https://yourfmo.com/webinar/unitedhealthcare-advantageguard-hospital-indemnity-insurance-designed-to-complement-seniors-health-insurance-plans-2/
END:VEVENT
BEGIN:VEVENT
DTSTART;TZID=America/New_York:20260310T150000
DTEND;TZID=America/New_York:20260310T153000
DTSTAMP:20260421T055452
CREATED:20260313T170914Z
LAST-MODIFIED:20260313T170914Z
UID:10006084-1773154800-1773156600@yourfmo.com
SUMMARY:ManhattanLife - OmniFlex Short-Term Care
DESCRIPTION:
URL:https://yourfmo.com/webinar/manhattanlife-omniflex-short-term-care-3/
END:VEVENT
BEGIN:VEVENT
DTSTART;TZID=America/New_York:20260311T110000
DTEND;TZID=America/New_York:20260311T113000
DTSTAMP:20260421T055452
CREATED:20260313T170915Z
LAST-MODIFIED:20260313T170915Z
UID:10006085-1773226800-1773228600@yourfmo.com
SUMMARY:UnitedHealthcare - AdvantageGuard - Hospital Indemnity Insurance Designed to Complement Seniors ’ Health Insurance Plans
DESCRIPTION:
URL:https://yourfmo.com/webinar/unitedhealthcare-advantageguard-hospital-indemnity-insurance-designed-to-complement-seniors-health-insurance-plans-3/
END:VEVENT
BEGIN:VEVENT
DTSTART;TZID=America/New_York:20260311T110000
DTEND;TZID=America/New_York:20260311T113000
DTSTAMP:20260421T055452
CREATED:20260313T170916Z
LAST-MODIFIED:20260313T170916Z
UID:10006086-1773226800-1773228600@yourfmo.com
SUMMARY:W &S Financial Group - LIVE Webinar with Special Guest: The Six Client Profiles That Annuities Can Help
DESCRIPTION:
URL:https://yourfmo.com/webinar/w-s-financial-group-live-webinar-with-special-guest-the-six-client-profiles-that-annuities-can-help/
END:VEVENT
BEGIN:VEVENT
DTSTART;TZID=America/New_York:20260311T130000
DTEND;TZID=America/New_York:20260311T133000
DTSTAMP:20260421T055452
CREATED:20260313T170917Z
LAST-MODIFIED:20260313T170917Z
UID:10006087-1773234000-1773235800@yourfmo.com
SUMMARY:Devoted Health Plans - Devoted SEP Bootcamp + AEP Performance
DESCRIPTION:
URL:https://yourfmo.com/webinar/devoted-health-plans-devoted-sep-bootcamp-aep-performance-2/
END:VEVENT
BEGIN:VEVENT
DTSTART;TZID=America/New_York:20260311T143000
DTEND;TZID=America/New_York:20260311T150000
DTSTAMP:20260421T055452
CREATED:20260223T173132Z
LAST-MODIFIED:20260223T173132Z
UID:10006058-1773239400-1773241200@yourfmo.com
SUMMARY:North American - Women and Wealth: Turning Risks into Readiness
DESCRIPTION:
URL:https://yourfmo.com/webinar/north-american-women-and-wealth-turning-risks-into-readiness/
END:VEVENT
END:VCALENDAR