BEGIN:VCALENDAR
VERSION:2.0
PRODID:-//YourFMO - ECPv6.15.15//NONSGML v1.0//EN
CALSCALE:GREGORIAN
METHOD:PUBLISH
X-WR-CALNAME:YourFMO
X-ORIGINAL-URL:https://yourfmo.com
X-WR-CALDESC:Events for YourFMO
REFRESH-INTERVAL;VALUE=DURATION:PT1H
X-Robots-Tag:noindex
X-PUBLISHED-TTL:PT1H
BEGIN:VTIMEZONE
TZID:America/New_York
BEGIN:DAYLIGHT
TZOFFSETFROM:-0500
TZOFFSETTO:-0400
TZNAME:EDT
DTSTART:20250309T070000
END:DAYLIGHT
BEGIN:STANDARD
TZOFFSETFROM:-0400
TZOFFSETTO:-0500
TZNAME:EST
DTSTART:20251102T060000
END:STANDARD
BEGIN:DAYLIGHT
TZOFFSETFROM:-0500
TZOFFSETTO:-0400
TZNAME:EDT
DTSTART:20260308T070000
END:DAYLIGHT
BEGIN:STANDARD
TZOFFSETFROM:-0400
TZOFFSETTO:-0500
TZNAME:EST
DTSTART:20261101T060000
END:STANDARD
BEGIN:DAYLIGHT
TZOFFSETFROM:-0500
TZOFFSETTO:-0400
TZNAME:EDT
DTSTART:20270314T070000
END:DAYLIGHT
BEGIN:STANDARD
TZOFFSETFROM:-0400
TZOFFSETTO:-0500
TZNAME:EST
DTSTART:20271107T060000
END:STANDARD
END:VTIMEZONE
BEGIN:VEVENT
DTSTART;TZID=America/New_York:20260105T113000
DTEND;TZID=America/New_York:20260105T120000
DTSTAMP:20260425T103947
CREATED:20260123T193954Z
LAST-MODIFIED:20260123T193954Z
UID:10005946-1767612600-1767614400@yourfmo.com
SUMMARY:SILAC -CEO Updates\, Bonus Opportunities & Case Studies
DESCRIPTION:
URL:https://yourfmo.com/webinar/silac-ceo-updates-bonus-opportunities-case-studies/
END:VEVENT
BEGIN:VEVENT
DTSTART;TZID=America/New_York:20260106T110000
DTEND;TZID=America/New_York:20260106T113000
DTSTAMP:20260425T103947
CREATED:20260123T193955Z
LAST-MODIFIED:20260123T193955Z
UID:10005947-1767697200-1767699000@yourfmo.com
SUMMARY:Americo - Americo Fast Track: Essential Training for New Agents
DESCRIPTION:
URL:https://yourfmo.com/webinar/americo-americo-fast-track-essential-training-for-new-agents-7/
END:VEVENT
BEGIN:VEVENT
DTSTART;TZID=America/New_York:20260106T110000
DTEND;TZID=America/New_York:20260106T120000
DTSTAMP:20260425T103947
CREATED:20251218T170834Z
LAST-MODIFIED:20251218T170834Z
UID:10005920-1767697200-1767700800@yourfmo.com
SUMMARY:Wellabe | Medico  - Tuesday Talk!
DESCRIPTION:
URL:https://yourfmo.com/webinar/wellabe-medico-tuesday-talk-9/
END:VEVENT
BEGIN:VEVENT
DTSTART;TZID=America/New_York:20260106T150000
DTEND;TZID=America/New_York:20260106T153000
DTSTAMP:20260425T103947
CREATED:20260123T193955Z
LAST-MODIFIED:20260123T193955Z
UID:10005948-1767711600-1767713400@yourfmo.com
SUMMARY:EquiTrust Building on Bridge - Enhancements for the new year
DESCRIPTION:
URL:https://yourfmo.com/webinar/equitrust-building-on-bridge-enhancements-for-the-new-year/
END:VEVENT
BEGIN:VEVENT
DTSTART;TZID=America/New_York:20260107T120000
DTEND;TZID=America/New_York:20260107T123000
DTSTAMP:20260425T103947
CREATED:20260123T193956Z
LAST-MODIFIED:20260123T193956Z
UID:10005949-1767787200-1767789000@yourfmo.com
SUMMARY:Wellabe | Medico - New agent training: How to be successful
DESCRIPTION:
URL:https://yourfmo.com/webinar/wellabe-medico-new-agent-training-how-to-be-successful-2/
END:VEVENT
BEGIN:VEVENT
DTSTART;TZID=America/New_York:20260108T110000
DTEND;TZID=America/New_York:20260108T113000
DTSTAMP:20260425T103947
CREATED:20260123T193956Z
LAST-MODIFIED:20260123T193956Z
UID:10005950-1767870000-1767871800@yourfmo.com
SUMMARY:EquiTrust - Building on Bridge - Enhancements for the new year
DESCRIPTION:
URL:https://yourfmo.com/webinar/equitrust-building-on-bridge-enhancements-for-the-new-year-2/
END:VEVENT
BEGIN:VEVENT
DTSTART;TZID=America/New_York:20260108T110000
DTEND;TZID=America/New_York:20260108T120000
DTSTAMP:20260425T103947
CREATED:20260107T193918Z
LAST-MODIFIED:20260107T193918Z
UID:10005925-1767870000-1767873600@yourfmo.com
SUMMARY:Aetna Senior Supplemental - Aetna Quote & Enroll Training - Medicare Supplement
DESCRIPTION:
URL:https://yourfmo.com/webinar/aetna-senior-supplemental-aetna-quote-enroll-training-medicare-supplement-6/
END:VEVENT
BEGIN:VEVENT
DTSTART;TZID=America/New_York:20260108T140000
DTEND;TZID=America/New_York:20260108T150000
DTSTAMP:20260425T103947
CREATED:20260107T193919Z
LAST-MODIFIED:20260107T193919Z
UID:10005926-1767880800-1767884400@yourfmo.com
SUMMARY:Aetna Senior Supplemental - Final Expense Whole Life Insurance (CLI)
DESCRIPTION:
URL:https://yourfmo.com/webinar/aetna-senior-supplemental-final-expense-whole-life-insurance-cli-3/
END:VEVENT
BEGIN:VEVENT
DTSTART;TZID=America/New_York:20260109T110000
DTEND;TZID=America/New_York:20260109T113000
DTSTAMP:20260425T103947
CREATED:20260123T193958Z
LAST-MODIFIED:20260123T193958Z
UID:10005951-1767956400-1767958200@yourfmo.com
SUMMARY:Americo - Instant Decision IUL: Fast\, Flexible\, and Powerful Protection
DESCRIPTION:
URL:https://yourfmo.com/webinar/americo-instant-decision-iul-fast-flexible-and-powerful-protection-5/
END:VEVENT
BEGIN:VEVENT
DTSTART;TZID=America/New_York:20260112T113000
DTEND;TZID=America/New_York:20260112T120000
DTSTAMP:20260425T103947
CREATED:20260123T193958Z
LAST-MODIFIED:20260123T193958Z
UID:10005952-1768217400-1768219200@yourfmo.com
SUMMARY:SILAC - SILAC Presents: Evolve Deep Dive
DESCRIPTION:
URL:https://yourfmo.com/webinar/silac-silac-presents-evolve-deep-dive-2/
END:VEVENT
BEGIN:VEVENT
DTSTART;TZID=America/New_York:20260113T110000
DTEND;TZID=America/New_York:20260113T113000
DTSTAMP:20260425T103947
CREATED:20260123T193959Z
LAST-MODIFIED:20260123T193959Z
UID:10005953-1768302000-1768303800@yourfmo.com
SUMMARY:Americo - Americo Fast Track: Essential Training for New Agents
DESCRIPTION:
URL:https://yourfmo.com/webinar/americo-americo-fast-track-essential-training-for-new-agents-8/
END:VEVENT
BEGIN:VEVENT
DTSTART;TZID=America/New_York:20260113T110000
DTEND;TZID=America/New_York:20260113T120000
DTSTAMP:20260425T103947
CREATED:20251218T170902Z
LAST-MODIFIED:20251218T170902Z
UID:10005921-1768302000-1768305600@yourfmo.com
SUMMARY:Wellabe | Medico  - Tuesday Talk!
DESCRIPTION:
URL:https://yourfmo.com/webinar/wellabe-medico-tuesday-talk-10/
END:VEVENT
BEGIN:VEVENT
DTSTART;TZID=America/New_York:20260113T110000
DTEND;TZID=America/New_York:20260113T120000
DTSTAMP:20260425T103947
CREATED:20260107T193920Z
LAST-MODIFIED:20260107T193920Z
UID:10005927-1768302000-1768305600@yourfmo.com
SUMMARY:Aetna Senior Supplemental - SSI Agent Website Tutorial
DESCRIPTION:
URL:https://yourfmo.com/webinar/aetna-senior-supplemental-ssi-agent-website-tutorial-11/
END:VEVENT
BEGIN:VEVENT
DTSTART;TZID=America/New_York:20260113T130000
DTEND;TZID=America/New_York:20260113T140000
DTSTAMP:20260425T103947
CREATED:20260107T193921Z
LAST-MODIFIED:20260107T193921Z
UID:10005928-1768309200-1768312800@yourfmo.com
SUMMARY:Aetna Senior Supplemental - Dental\, Vision\, & Hearing Flex
DESCRIPTION:
URL:https://yourfmo.com/webinar/aetna-senior-supplemental-dental-vision-hearing-flex-6/
END:VEVENT
BEGIN:VEVENT
DTSTART;TZID=America/New_York:20260113T150000
DTEND;TZID=America/New_York:20260113T153000
DTSTAMP:20260425T103947
CREATED:20260123T193959Z
LAST-MODIFIED:20260123T193959Z
UID:10005954-1768316400-1768318200@yourfmo.com
SUMMARY:ManhattanLife - Cancer/Heart & Stroke (CHAS)
DESCRIPTION:
URL:https://yourfmo.com/webinar/manhattanlife-cancer-heart-stroke-chas/
END:VEVENT
BEGIN:VEVENT
DTSTART;TZID=America/New_York:20260114T110000
DTEND;TZID=America/New_York:20260114T120000
DTSTAMP:20260425T103947
CREATED:20251218T170903Z
LAST-MODIFIED:20251218T170903Z
UID:10005922-1768388400-1768392000@yourfmo.com
SUMMARY:Western & Southern Financial Group - Boost Your Business with Expert Annuity Strategies & Timely Topics!
DESCRIPTION:
URL:https://yourfmo.com/webinar/western-southern-financial-group-boost-your-business-with-expert-annuity-strategies-timely-topics/
END:VEVENT
BEGIN:VEVENT
DTSTART;TZID=America/New_York:20260114T120000
DTEND;TZID=America/New_York:20260114T123000
DTSTAMP:20260425T103947
CREATED:20260123T193959Z
LAST-MODIFIED:20260123T193959Z
UID:10005955-1768392000-1768393800@yourfmo.com
SUMMARY:Wellabe | Medico - Enrollments made easy with MyEnroller
DESCRIPTION:
URL:https://yourfmo.com/webinar/wellabe-medico-enrollments-made-easy-with-myenroller/
END:VEVENT
BEGIN:VEVENT
DTSTART;TZID=America/New_York:20260115T110000
DTEND;TZID=America/New_York:20260115T120000
DTSTAMP:20260425T103947
CREATED:20260107T193922Z
LAST-MODIFIED:20260107T193922Z
UID:10005929-1768474800-1768478400@yourfmo.com
SUMMARY:Aetna Senior Supplemental - Hospital Indemnity Flex
DESCRIPTION:
URL:https://yourfmo.com/webinar/aetna-senior-supplemental-hospital-indemnity-flex-15/
END:VEVENT
BEGIN:VEVENT
DTSTART;TZID=America/New_York:20260115T120000
DTEND;TZID=America/New_York:20260115T123000
DTSTAMP:20260425T103947
CREATED:20260123T194253Z
LAST-MODIFIED:20260123T194253Z
UID:10005956-1768478400-1768480200@yourfmo.com
SUMMARY:North American - Unlock Hidden Value with Policy Reviews
DESCRIPTION:
URL:https://yourfmo.com/webinar/north-american-unlock-hidden-value-with-policy-reviews/
END:VEVENT
BEGIN:VEVENT
DTSTART;TZID=America/New_York:20260115T120000
DTEND;TZID=America/New_York:20260115T123000
DTSTAMP:20260425T103947
CREATED:20260123T194254Z
LAST-MODIFIED:20260123T194254Z
UID:10005957-1768478400-1768480200@yourfmo.com
SUMMARY:F&G - Sales Concept - Spanish
DESCRIPTION:
URL:https://yourfmo.com/webinar/fg-sales-concept-spanish/
END:VEVENT
BEGIN:VEVENT
DTSTART;TZID=America/New_York:20260115T150000
DTEND;TZID=America/New_York:20260115T153000
DTSTAMP:20260425T103947
CREATED:20260123T194255Z
LAST-MODIFIED:20260123T194255Z
UID:10005958-1768489200-1768491000@yourfmo.com
SUMMARY:ManhattanLife - Agent Resource Center & Enrollment Tool (ARC/2.0)
DESCRIPTION:
URL:https://yourfmo.com/webinar/manhattanlife-agent-resource-center-enrollment-tool-arc-2-0/
END:VEVENT
BEGIN:VEVENT
DTSTART;TZID=America/New_York:20260116T110000
DTEND;TZID=America/New_York:20260116T113000
DTSTAMP:20260425T103947
CREATED:20260123T194255Z
LAST-MODIFIED:20260123T194255Z
UID:10005959-1768561200-1768563000@yourfmo.com
SUMMARY:Americo - Best Practices for eApplication Signatures
DESCRIPTION:
URL:https://yourfmo.com/webinar/americo-best-practices-for-eapplication-signatures/
END:VEVENT
BEGIN:VEVENT
DTSTART;TZID=America/New_York:20260116T110000
DTEND;TZID=America/New_York:20260116T120000
DTSTAMP:20260425T103947
CREATED:20260107T193924Z
LAST-MODIFIED:20260107T193924Z
UID:10005930-1768561200-1768564800@yourfmo.com
SUMMARY:Aetna Senior Supplemental - Recovery Care
DESCRIPTION:
URL:https://yourfmo.com/webinar/aetna-senior-supplemental-recovery-care-4/
END:VEVENT
BEGIN:VEVENT
DTSTART;TZID=America/New_York:20260120T110000
DTEND;TZID=America/New_York:20260120T113000
DTSTAMP:20260425T103947
CREATED:20260123T194255Z
LAST-MODIFIED:20260123T194255Z
UID:10005960-1768906800-1768908600@yourfmo.com
SUMMARY:Americo - Americo Fast Track: Essential Training for New Agents
DESCRIPTION:
URL:https://yourfmo.com/webinar/americo-americo-fast-track-essential-training-for-new-agents-9/
END:VEVENT
BEGIN:VEVENT
DTSTART;TZID=America/New_York:20260120T110000
DTEND;TZID=America/New_York:20260120T120000
DTSTAMP:20260425T103947
CREATED:20251218T170904Z
LAST-MODIFIED:20251218T170904Z
UID:10005923-1768906800-1768910400@yourfmo.com
SUMMARY:Wellabe | Medico  - Tuesday Talk!
DESCRIPTION:
URL:https://yourfmo.com/webinar/wellabe-medico-tuesday-talk-11/
END:VEVENT
BEGIN:VEVENT
DTSTART;TZID=America/New_York:20260120T110000
DTEND;TZID=America/New_York:20260120T120000
DTSTAMP:20260425T103947
CREATED:20260107T193925Z
LAST-MODIFIED:20260107T193925Z
UID:10005931-1768906800-1768910400@yourfmo.com
SUMMARY:Aetna Senior Supplemental - Medicare Supplement
DESCRIPTION:
URL:https://yourfmo.com/webinar/aetna-senior-supplemental-medicare-supplement-17/
END:VEVENT
BEGIN:VEVENT
DTSTART;TZID=America/New_York:20260120T120000
DTEND;TZID=America/New_York:20260120T123000
DTSTAMP:20260425T103947
CREATED:20260123T194300Z
LAST-MODIFIED:20260123T194300Z
UID:10005961-1768910400-1768912200@yourfmo.com
SUMMARY:Mutual of Omaha - Cross-Sell Opportunities
DESCRIPTION:
URL:https://yourfmo.com/webinar/mutual-of-omaha-cross-sell-opportunities/
END:VEVENT
BEGIN:VEVENT
DTSTART;TZID=America/New_York:20260120T130000
DTEND;TZID=America/New_York:20260120T140000
DTSTAMP:20260425T103947
CREATED:20260107T193926Z
LAST-MODIFIED:20260107T193926Z
UID:10005932-1768914000-1768917600@yourfmo.com
SUMMARY:Aetna Senior Supplemental - Dental\, Vision\, & Hearing Flex
DESCRIPTION:
URL:https://yourfmo.com/webinar/aetna-senior-supplemental-dental-vision-hearing-flex-7/
END:VEVENT
BEGIN:VEVENT
DTSTART;TZID=America/New_York:20260120T150000
DTEND;TZID=America/New_York:20260120T153000
DTSTAMP:20260425T103947
CREATED:20260123T194301Z
LAST-MODIFIED:20260123T194301Z
UID:10005962-1768921200-1768923000@yourfmo.com
SUMMARY:ManhattanLife - Affordable Choice Enhanced (AFC w/SDR))
DESCRIPTION:
URL:https://yourfmo.com/webinar/manhattanlife-affordable-choice-enhanced-afc-w-sdr/
END:VEVENT
BEGIN:VEVENT
DTSTART;TZID=America/New_York:20260121T120000
DTEND;TZID=America/New_York:20260121T123000
DTSTAMP:20260425T103947
CREATED:20260123T194301Z
LAST-MODIFIED:20260123T194301Z
UID:10005963-1768996800-1768998600@yourfmo.com
SUMMARY:Wellabe | Medico - Critical Illness insurance: Help clients build coverage that fits their needs
DESCRIPTION:
URL:https://yourfmo.com/webinar/wellabe-medico-critical-illness-insurance-help-clients-build-coverage-that-fits-their-needs/
END:VEVENT
END:VCALENDAR