BEGIN:VCALENDAR
VERSION:2.0
PRODID:-//YourFMO - ECPv6.15.15//NONSGML v1.0//EN
CALSCALE:GREGORIAN
METHOD:PUBLISH
X-WR-CALNAME:YourFMO
X-ORIGINAL-URL:https://yourfmo.com
X-WR-CALDESC:Events for YourFMO
REFRESH-INTERVAL;VALUE=DURATION:PT1H
X-Robots-Tag:noindex
X-PUBLISHED-TTL:PT1H
BEGIN:VTIMEZONE
TZID:America/New_York
BEGIN:DAYLIGHT
TZOFFSETFROM:-0500
TZOFFSETTO:-0400
TZNAME:EDT
DTSTART:20240310T070000
END:DAYLIGHT
BEGIN:STANDARD
TZOFFSETFROM:-0400
TZOFFSETTO:-0500
TZNAME:EST
DTSTART:20241103T060000
END:STANDARD
BEGIN:DAYLIGHT
TZOFFSETFROM:-0500
TZOFFSETTO:-0400
TZNAME:EDT
DTSTART:20250309T070000
END:DAYLIGHT
BEGIN:STANDARD
TZOFFSETFROM:-0400
TZOFFSETTO:-0500
TZNAME:EST
DTSTART:20251102T060000
END:STANDARD
BEGIN:DAYLIGHT
TZOFFSETFROM:-0500
TZOFFSETTO:-0400
TZNAME:EDT
DTSTART:20260308T070000
END:DAYLIGHT
BEGIN:STANDARD
TZOFFSETFROM:-0400
TZOFFSETTO:-0500
TZNAME:EST
DTSTART:20261101T060000
END:STANDARD
END:VTIMEZONE
BEGIN:VEVENT
DTSTART;TZID=America/New_York:20250902T080000
DTEND;TZID=America/New_York:20250902T090000
DTSTAMP:20260425T075517
CREATED:20250821T150328Z
LAST-MODIFIED:20250821T150328Z
UID:10005669-1756800000-1756803600@yourfmo.com
SUMMARY:Humana: 2026 Why Humana
DESCRIPTION:
URL:https://yourfmo.com/webinar/humana-2026-why-humana/
END:VEVENT
BEGIN:VEVENT
DTSTART;TZID=America/New_York:20250902T110000
DTEND;TZID=America/New_York:20250902T120000
DTSTAMP:20260425T075517
CREATED:20250806T192842Z
LAST-MODIFIED:20250821T150329Z
UID:10005652-1756810800-1756814400@yourfmo.com
SUMMARY:Wellabe | Medico: Tuesday Talks
DESCRIPTION:
URL:https://yourfmo.com/webinar/wellabe-medico-tuesday-talks-4/
END:VEVENT
BEGIN:VEVENT
DTSTART;TZID=America/New_York:20250903T090000
DTEND;TZID=America/New_York:20250903T100000
DTSTAMP:20260425T075517
CREATED:20250806T192844Z
LAST-MODIFIED:20250821T150331Z
UID:10005653-1756890000-1756893600@yourfmo.com
SUMMARY:Devoted Health Plans: Navigating SNPs: Eligibility\, Medicaid & LIS Insights
DESCRIPTION:
URL:https://yourfmo.com/webinar/devoted-health-plans-navigating-snps-eligibility-medicaid-lis-insights-3/
END:VEVENT
BEGIN:VEVENT
DTSTART;TZID=America/New_York:20250903T130000
DTEND;TZID=America/New_York:20250903T140000
DTSTAMP:20260425T075517
CREATED:20250814T150927Z
LAST-MODIFIED:20250821T150355Z
UID:10005663-1756904400-1756908000@yourfmo.com
SUMMARY:Aetna Senior Supplemental: Dental\, Vision\, & Hearing Flex
DESCRIPTION:
URL:https://yourfmo.com/webinar/aetna-senior-supplemental-dental-vision-hearing-flex-2/
END:VEVENT
BEGIN:VEVENT
DTSTART;TZID=America/New_York:20250904T130000
DTEND;TZID=America/New_York:20250904T140000
DTSTAMP:20260425T075517
CREATED:20250806T192909Z
LAST-MODIFIED:20250821T150357Z
UID:10005654-1756990800-1756994400@yourfmo.com
SUMMARY:Devoted Health Plans: Navigating SNPs: Eligibility\, Medicaid & LIS Insights
DESCRIPTION:
URL:https://yourfmo.com/webinar/devoted-health-plans-navigating-snps-eligibility-medicaid-lis-insights-4/
END:VEVENT
BEGIN:VEVENT
DTSTART;TZID=America/New_York:20250908T120000
DTEND;TZID=America/New_York:20250908T130000
DTSTAMP:20260425T075517
CREATED:20250821T150358Z
LAST-MODIFIED:20250821T150358Z
UID:10005670-1757332800-1757336400@yourfmo.com
SUMMARY:Allstate Health Solutions + Health Sherpa: Learn how you can build ACA + Allstate Supplemental bundles on your AHS Sales Site
DESCRIPTION:
URL:https://yourfmo.com/webinar/allstate-health-solutions-health-sherpa-learn-how-you-can-build-aca-allstate-supplemental-bundles-on-your-ahs-sales-site/
END:VEVENT
BEGIN:VEVENT
DTSTART;TZID=America/New_York:20250909T110000
DTEND;TZID=America/New_York:20250909T120000
DTSTAMP:20260425T075517
CREATED:20250806T192910Z
LAST-MODIFIED:20250821T150359Z
UID:10005655-1757415600-1757419200@yourfmo.com
SUMMARY:Wellabe | Medico: Tuesday Talks
DESCRIPTION:
URL:https://yourfmo.com/webinar/wellabe-medico-tuesday-talks-5/
END:VEVENT
BEGIN:VEVENT
DTSTART;TZID=America/New_York:20250909T180000
DTEND;TZID=America/New_York:20250909T203000
DTSTAMP:20260425T075517
CREATED:20250821T150400Z
LAST-MODIFIED:20250821T150400Z
UID:10005671-1757440800-1757449800@yourfmo.com
SUMMARY:Florida Blue: Hillsborough County Road Show Union New American 1111 N. Westshore Blvd Tampa\, FL 33607
DESCRIPTION:
URL:https://yourfmo.com/webinar/florida-blue-hillsborough-county-road-show-union-new-american-1111-n-westshore-blvd-tampa-fl-33607/
END:VEVENT
BEGIN:VEVENT
DTSTART;TZID=America/New_York:20250910T100000
DTEND;TZID=America/New_York:20250910T110000
DTSTAMP:20260425T075517
CREATED:20250909T145845Z
LAST-MODIFIED:20250909T145845Z
UID:10005678-1757498400-1757502000@yourfmo.com
SUMMARY:UHC 2026 AEP Rollout
DESCRIPTION:
URL:https://yourfmo.com/webinar/uhc-2026-aep-rollout/
END:VEVENT
BEGIN:VEVENT
DTSTART;TZID=America/New_York:20250910T110000
DTEND;TZID=America/New_York:20250910T120000
DTSTAMP:20260425T075517
CREATED:20250909T145846Z
LAST-MODIFIED:20250909T145846Z
UID:10005679-1757502000-1757505600@yourfmo.com
SUMMARY:2026 MA/MAPD Product Training
DESCRIPTION:
URL:https://yourfmo.com/webinar/2026-ma-mapd-product-training/
END:VEVENT
BEGIN:VEVENT
DTSTART;TZID=America/New_York:20250910T110000
DTEND;TZID=America/New_York:20250910T120000
DTSTAMP:20260425T075517
CREATED:20250909T145848Z
LAST-MODIFIED:20250909T145848Z
UID:10005681-1757502000-1757505600@yourfmo.com
SUMMARY:The Brownwood Hotel3003 Brownwood Blvd\nThe Villages\, FL 32163
DESCRIPTION:
URL:https://yourfmo.com/webinar/the-brownwood-hotel3003-brownwood-blvdthe-villages-fl-32163/
END:VEVENT
BEGIN:VEVENT
DTSTART;TZID=America/New_York:20250910T110000
DTEND;TZID=America/New_York:20250910T130000
DTSTAMP:20260425T075517
CREATED:20250909T145847Z
LAST-MODIFIED:20250909T145847Z
UID:10005680-1757502000-1757509200@yourfmo.com
SUMMARY:Understanding the Generational Wealth transfer opportunity
DESCRIPTION:
URL:https://yourfmo.com/webinar/understanding-the-generational-wealth-transfer-opportunity/
END:VEVENT
BEGIN:VEVENT
DTSTART;TZID=America/New_York:20250910T143000
DTEND;TZID=America/New_York:20250910T153000
DTSTAMP:20260425T075517
CREATED:20250821T150425Z
LAST-MODIFIED:20250821T150425Z
UID:10005672-1757514600-1757518200@yourfmo.com
SUMMARY:North American: Wired for Wednesdays: Your Software Learning Hub
DESCRIPTION:
URL:https://yourfmo.com/webinar/north-american-wired-for-wednesdays-your-software-learning-hub-3/
END:VEVENT
BEGIN:VEVENT
DTSTART;TZID=America/New_York:20250910T143000
DTEND;TZID=America/New_York:20250910T153000
DTSTAMP:20260425T075517
CREATED:20250909T145849Z
LAST-MODIFIED:20250909T145849Z
UID:10005682-1757514600-1757518200@yourfmo.com
SUMMARY:Wired for Wednesdays: Your Software Learning Hub
DESCRIPTION:
URL:https://yourfmo.com/webinar/wired-for-wednesdays-your-software-learning-hub/
END:VEVENT
BEGIN:VEVENT
DTSTART;TZID=America/New_York:20250910T150000
DTEND;TZID=America/New_York:20250910T160000
DTSTAMP:20260425T075517
CREATED:20250909T145852Z
LAST-MODIFIED:20250909T145852Z
UID:10005683-1757516400-1757520000@yourfmo.com
SUMMARY:Exclusive Invitation: 2026 Product Overview
DESCRIPTION:
URL:https://yourfmo.com/webinar/exclusive-invitation-2026-product-overview/
END:VEVENT
BEGIN:VEVENT
DTSTART;TZID=America/New_York:20250910T183000
DTEND;TZID=America/New_York:20250910T193000
DTSTAMP:20260425T075517
CREATED:20250909T145853Z
LAST-MODIFIED:20250909T145853Z
UID:10005684-1757529000-1757532600@yourfmo.com
SUMMARY:Selling F&G IUL’s: Product Positioning
DESCRIPTION:
URL:https://yourfmo.com/webinar/selling-fg-iuls-product-positioning/
END:VEVENT
BEGIN:VEVENT
DTSTART;TZID=America/New_York:20250911T110000
DTEND;TZID=America/New_York:20250911T120000
DTSTAMP:20260425T075517
CREATED:20250909T145854Z
LAST-MODIFIED:20250909T145854Z
UID:10005685-1757588400-1757592000@yourfmo.com
SUMMARY:TETON 5 & TETON BONUS 5
DESCRIPTION:
URL:https://yourfmo.com/webinar/teton-5-teton-bonus-5/
END:VEVENT
BEGIN:VEVENT
DTSTART;TZID=America/New_York:20250911T110000
DTEND;TZID=America/New_York:20250911T120000
DTSTAMP:20260425T075517
CREATED:20250909T145855Z
LAST-MODIFIED:20250909T145855Z
UID:10005686-1757588400-1757592000@yourfmo.com
SUMMARY:Looking up Providers in sDirectory
DESCRIPTION:
URL:https://yourfmo.com/webinar/looking-up-providers-in-sdirectory/
END:VEVENT
BEGIN:VEVENT
DTSTART;TZID=America/New_York:20250911T140000
DTEND;TZID=America/New_York:20250911T150000
DTSTAMP:20260425T075517
CREATED:20250821T150426Z
LAST-MODIFIED:20250821T150426Z
UID:10005673-1757599200-1757602800@yourfmo.com
SUMMARY:North American: Get the Facts: Explaining Living Benefits to Your Clients
DESCRIPTION:
URL:https://yourfmo.com/webinar/north-american-get-the-facts-explaining-living-benefits-to-your-clients/
END:VEVENT
BEGIN:VEVENT
DTSTART;TZID=America/New_York:20250911T140000
DTEND;TZID=America/New_York:20250911T150000
DTSTAMP:20260425T075517
CREATED:20250909T145856Z
LAST-MODIFIED:20250909T145856Z
UID:10005687-1757599200-1757602800@yourfmo.com
SUMMARY:Get the Facts: Explaining Living Benefits to Your Clients
DESCRIPTION:
URL:https://yourfmo.com/webinar/get-the-facts-explaining-living-benefits-to-your-clients/
END:VEVENT
BEGIN:VEVENT
DTSTART;TZID=America/New_York:20250911T140000
DTEND;TZID=America/New_York:20250911T150000
DTSTAMP:20260425T075517
CREATED:20250909T145922Z
LAST-MODIFIED:20250909T145922Z
UID:10005688-1757599200-1757602800@yourfmo.com
SUMMARY:Devoted Health Agent Onboarding Live Webinar
DESCRIPTION:
URL:https://yourfmo.com/webinar/devoted-health-agent-onboarding-live-webinar/
END:VEVENT
BEGIN:VEVENT
DTSTART;TZID=America/New_York:20250911T140000
DTEND;TZID=America/New_York:20250911T150000
DTSTAMP:20260425T075517
CREATED:20250909T145923Z
LAST-MODIFIED:20250909T145923Z
UID:10005689-1757599200-1757602800@yourfmo.com
SUMMARY:Final Expense Whole Life Insurance (CLI)
DESCRIPTION:
URL:https://yourfmo.com/webinar/final-expense-whole-life-insurance-cli/
END:VEVENT
BEGIN:VEVENT
DTSTART;TZID=America/New_York:20250911T150000
DTEND;TZID=America/New_York:20250911T160000
DTSTAMP:20260425T075517
CREATED:20250909T145925Z
LAST-MODIFIED:20250909T145925Z
UID:10005690-1757602800-1757606400@yourfmo.com
SUMMARY:ManhattanLife OmniFlex Short-Term Care
DESCRIPTION:
URL:https://yourfmo.com/webinar/manhattanlife-omniflex-short-term-care-2/
END:VEVENT
BEGIN:VEVENT
DTSTART;TZID=America/New_York:20250911T150000
DTEND;TZID=America/New_York:20250911T160000
DTSTAMP:20260425T075517
CREATED:20250909T145926Z
LAST-MODIFIED:20250909T145926Z
UID:10005691-1757602800-1757606400@yourfmo.com
SUMMARY:Critical Illness Insurance: Help clients build coverage that fits their needs
DESCRIPTION:
URL:https://yourfmo.com/webinar/critical-illness-insurance-help-clients-build-coverage-that-fits-their-needs/
END:VEVENT
BEGIN:VEVENT
DTSTART;TZID=America/New_York:20250911T150000
DTEND;TZID=America/New_York:20250911T160000
DTSTAMP:20260425T075517
CREATED:20250909T145953Z
LAST-MODIFIED:20250909T145953Z
UID:10005693-1757602800-1757606400@yourfmo.com
SUMMARY:Rx Medication Lookup Tool Training
DESCRIPTION:
URL:https://yourfmo.com/webinar/rx-medication-lookup-tool-training/
END:VEVENT
BEGIN:VEVENT
DTSTART;TZID=America/New_York:20250911T160000
DTEND;TZID=America/New_York:20250911T170000
DTSTAMP:20260425T075517
CREATED:20250909T145927Z
LAST-MODIFIED:20250909T145927Z
UID:10005692-1757606400-1757610000@yourfmo.com
SUMMARY:Marketing Materials & Devoted Tools Overview
DESCRIPTION:
URL:https://yourfmo.com/webinar/marketing-materials-devoted-tools-overview/
END:VEVENT
BEGIN:VEVENT
DTSTART;TZID=America/New_York:20250911T180000
DTEND;TZID=America/New_York:20250911T210000
DTSTAMP:20260425T075517
CREATED:20250909T145954Z
LAST-MODIFIED:20250909T145954Z
UID:10005694-1757613600-1757624400@yourfmo.com
SUMMARY:Frescos Southern Kitchen132 S. Kentucky Avenue Lakeland\, FL 33801
DESCRIPTION:
URL:https://yourfmo.com/webinar/frescos-southern-kitchen132-s-kentucky-avenue-lakeland-fl-33801/
END:VEVENT
BEGIN:VEVENT
DTSTART;TZID=America/New_York:20250912T090000
DTEND;TZID=America/New_York:20250912T100000
DTSTAMP:20260425T075517
CREATED:20250909T145955Z
LAST-MODIFIED:20250909T145955Z
UID:10005695-1757667600-1757671200@yourfmo.com
SUMMARY:Devoted Health Agent Onboarding Live Webinar
DESCRIPTION:
URL:https://yourfmo.com/webinar/devoted-health-agent-onboarding-live-webinar-2/
END:VEVENT
BEGIN:VEVENT
DTSTART;TZID=America/New_York:20250912T110000
DTEND;TZID=America/New_York:20250912T120000
DTSTAMP:20260425T075517
CREATED:20250909T145957Z
LAST-MODIFIED:20250909T145957Z
UID:10005696-1757674800-1757678400@yourfmo.com
SUMMARY:Instant Decision IUL
DESCRIPTION:
URL:https://yourfmo.com/webinar/instant-decision-iul/
END:VEVENT
BEGIN:VEVENT
DTSTART;TZID=America/New_York:20250912T130000
DTEND;TZID=America/New_York:20250912T140000
DTSTAMP:20260425T075517
CREATED:20250909T145957Z
LAST-MODIFIED:20250909T145957Z
UID:10005697-1757682000-1757685600@yourfmo.com
SUMMARY:Dental\, Vision\, & Hearing Flex
DESCRIPTION:
URL:https://yourfmo.com/webinar/dental-vision-hearing-flex/
END:VEVENT
END:VCALENDAR