BEGIN:VCALENDAR
VERSION:2.0
PRODID:-//YourFMO - ECPv6.15.15//NONSGML v1.0//EN
CALSCALE:GREGORIAN
METHOD:PUBLISH
X-WR-CALNAME:YourFMO
X-ORIGINAL-URL:https://yourfmo.com
X-WR-CALDESC:Events for YourFMO
REFRESH-INTERVAL;VALUE=DURATION:PT1H
X-Robots-Tag:noindex
X-PUBLISHED-TTL:PT1H
BEGIN:VTIMEZONE
TZID:America/New_York
BEGIN:DAYLIGHT
TZOFFSETFROM:-0500
TZOFFSETTO:-0400
TZNAME:EDT
DTSTART:20240310T070000
END:DAYLIGHT
BEGIN:STANDARD
TZOFFSETFROM:-0400
TZOFFSETTO:-0500
TZNAME:EST
DTSTART:20241103T060000
END:STANDARD
BEGIN:DAYLIGHT
TZOFFSETFROM:-0500
TZOFFSETTO:-0400
TZNAME:EDT
DTSTART:20250309T070000
END:DAYLIGHT
BEGIN:STANDARD
TZOFFSETFROM:-0400
TZOFFSETTO:-0500
TZNAME:EST
DTSTART:20251102T060000
END:STANDARD
BEGIN:DAYLIGHT
TZOFFSETFROM:-0500
TZOFFSETTO:-0400
TZNAME:EDT
DTSTART:20260308T070000
END:DAYLIGHT
BEGIN:STANDARD
TZOFFSETFROM:-0400
TZOFFSETTO:-0500
TZNAME:EST
DTSTART:20261101T060000
END:STANDARD
END:VTIMEZONE
BEGIN:VEVENT
DTSTART;TZID=America/New_York:20250804T160000
DTEND;TZID=America/New_York:20250804T170000
DTSTAMP:20260421T130836
CREATED:20250806T192231Z
LAST-MODIFIED:20250821T145613Z
UID:10005588-1754323200-1754326800@yourfmo.com
SUMMARY:Cigna Healthcare: MA/PDP: In-person or telephonically: Enroll with ease using ConnectureDRX
DESCRIPTION:
URL:https://yourfmo.com/webinar/cigna-healthcare-ma-pdp-in-person-or-telephonically-enroll-with-ease-using-connecturedrx/
END:VEVENT
BEGIN:VEVENT
DTSTART;TZID=America/New_York:20250805T100000
DTEND;TZID=America/New_York:20250805T110000
DTSTAMP:20260421T130836
CREATED:20250806T192232Z
LAST-MODIFIED:20250821T145615Z
UID:10005589-1754388000-1754391600@yourfmo.com
SUMMARY:Cigna Healthcare: CSB: Ordering sales materials for CSB brokers
DESCRIPTION:
URL:https://yourfmo.com/webinar/cigna-healthcare-csb-ordering-sales-materials-for-csb-brokers/
END:VEVENT
BEGIN:VEVENT
DTSTART;TZID=America/New_York:20250805T110000
DTEND;TZID=America/New_York:20250805T120000
DTSTAMP:20260421T130836
CREATED:20250806T192233Z
LAST-MODIFIED:20250821T145616Z
UID:10005590-1754391600-1754395200@yourfmo.com
SUMMARY:UnitedHealthcare: Growing your Sales with Enhanced Health ProtectorGuard
DESCRIPTION:
URL:https://yourfmo.com/webinar/unitedhealthcare-growing-your-sales-with-enhanced-health-protectorguard/
END:VEVENT
BEGIN:VEVENT
DTSTART;TZID=America/New_York:20250805T110000
DTEND;TZID=America/New_York:20250805T120000
DTSTAMP:20260421T130836
CREATED:20250806T192234Z
LAST-MODIFIED:20250821T145618Z
UID:10005591-1754391600-1754395200@yourfmo.com
SUMMARY:Wellabe | Medico: Tuesday Talks
DESCRIPTION:
URL:https://yourfmo.com/webinar/wellabe-medico-tuesday-talks/
END:VEVENT
BEGIN:VEVENT
DTSTART;TZID=America/New_York:20250805T160000
DTEND;TZID=America/New_York:20250805T170000
DTSTAMP:20260421T130836
CREATED:20250806T192235Z
LAST-MODIFIED:20250821T145619Z
UID:10005592-1754409600-1754413200@yourfmo.com
SUMMARY:Cigna Healthcare: All: Cigna Healthcare Choice Hospital Indemnity: A new look
DESCRIPTION:
URL:https://yourfmo.com/webinar/cigna-healthcare-all-cigna-healthcare-choice-hospital-indemnity-a-new-look/
END:VEVENT
BEGIN:VEVENT
DTSTART;TZID=America/New_York:20250806T100000
DTEND;TZID=America/New_York:20250806T110000
DTSTAMP:20260421T130836
CREATED:20250806T192238Z
LAST-MODIFIED:20250821T145625Z
UID:10005593-1754474400-1754478000@yourfmo.com
SUMMARY:Cigna Healthcare: MA/PDP: In-person or telephonically: Enroll with ease using ConnectureDRX
DESCRIPTION:
URL:https://yourfmo.com/webinar/cigna-healthcare-ma-pdp-in-person-or-telephonically-enroll-with-ease-using-connecturedrx-2/
END:VEVENT
BEGIN:VEVENT
DTSTART;TZID=America/New_York:20250806T120000
DTEND;TZID=America/New_York:20250806T130000
DTSTAMP:20260421T130836
CREATED:20250806T192239Z
LAST-MODIFIED:20250821T145626Z
UID:10005594-1754481600-1754485200@yourfmo.com
SUMMARY:Wellabe | Medico: New Agent Training: How to be successful
DESCRIPTION:
URL:https://yourfmo.com/webinar/wellabe-medico-new-agent-training-how-to-be-successful/
END:VEVENT
BEGIN:VEVENT
DTSTART;TZID=America/New_York:20250806T143000
DTEND;TZID=America/New_York:20250806T153000
DTSTAMP:20260421T130836
CREATED:20250806T192240Z
LAST-MODIFIED:20250821T145628Z
UID:10005595-1754490600-1754494200@yourfmo.com
SUMMARY:North American: Wired for Wednesdays: Your Software Learning Hub
DESCRIPTION:
URL:https://yourfmo.com/webinar/north-american-wired-for-wednesdays-your-software-learning-hub/
END:VEVENT
BEGIN:VEVENT
DTSTART;TZID=America/New_York:20250806T150000
DTEND;TZID=America/New_York:20250806T160000
DTSTAMP:20260421T130836
CREATED:20250806T192241Z
LAST-MODIFIED:20250821T145629Z
UID:10005596-1754492400-1754496000@yourfmo.com
SUMMARY:EquiTrust Life: SmartBoost Index – Unlock guaranteed growth with a no-fee 40% boost
DESCRIPTION:
URL:https://yourfmo.com/webinar/equitrust-life-smartboost-index-unlock-guaranteed-growth-with-a-no-fee-40-boost/
END:VEVENT
BEGIN:VEVENT
DTSTART;TZID=America/New_York:20250806T160000
DTEND;TZID=America/New_York:20250806T170000
DTSTAMP:20260421T130836
CREATED:20250806T192243Z
LAST-MODIFIED:20250821T145631Z
UID:10005597-1754496000-1754499600@yourfmo.com
SUMMARY:Cigna Healthcare: MA/PDP: Ordering sales materials for MA brokers
DESCRIPTION:
URL:https://yourfmo.com/webinar/cigna-healthcare-ma-pdp-ordering-sales-materials-for-ma-brokers/
END:VEVENT
BEGIN:VEVENT
DTSTART;TZID=America/New_York:20250807T100000
DTEND;TZID=America/New_York:20250807T110000
DTSTAMP:20260421T130836
CREATED:20250806T192309Z
LAST-MODIFIED:20250821T145655Z
UID:10005598-1754560800-1754564400@yourfmo.com
SUMMARY:Cigna Healthcare: All: Cigna Healthcare Choice Hospital Indemnity: A new look
DESCRIPTION:
URL:https://yourfmo.com/webinar/cigna-healthcare-all-cigna-healthcare-choice-hospital-indemnity-a-new-look-2/
END:VEVENT
BEGIN:VEVENT
DTSTART;TZID=America/New_York:20250807T100000
DTEND;TZID=America/New_York:20250807T110000
DTSTAMP:20260421T130836
CREATED:20250806T192311Z
LAST-MODIFIED:20250806T192311Z
UID:10005599-1754560800-1754564400@yourfmo.com
SUMMARY:UnitedHealthcare: CSNP Deep Dive
DESCRIPTION:
URL:https://yourfmo.com/webinar/unitedhealthcare-csnp-deep-dive/
END:VEVENT
BEGIN:VEVENT
DTSTART;TZID=America/New_York:20250807T100000
DTEND;TZID=America/New_York:20250807T110000
DTSTAMP:20260421T130836
CREATED:20250806T192314Z
LAST-MODIFIED:20250821T145700Z
UID:10005602-1754560800-1754564400@yourfmo.com
SUMMARY:UnitedHealthcare: CSNP Deep Dive
DESCRIPTION:
URL:https://yourfmo.com/webinar/unitedhealthcare-csnp-deep-dive-2/
END:VEVENT
BEGIN:VEVENT
DTSTART;TZID=America/New_York:20250807T110000
DTEND;TZID=America/New_York:20250807T120000
DTSTAMP:20260421T130836
CREATED:20250806T192312Z
LAST-MODIFIED:20250821T145657Z
UID:10005600-1754564400-1754568000@yourfmo.com
SUMMARY:SAYBUS | SILAC: TETON 5 & TETON 5 BONUS – Product Review
DESCRIPTION:
URL:https://yourfmo.com/webinar/saybus-silac-teton-5-teton-5-bonus-product-review/
END:VEVENT
BEGIN:VEVENT
DTSTART;TZID=America/New_York:20250807T140000
DTEND;TZID=America/New_York:20250807T150000
DTSTAMP:20260421T130836
CREATED:20250806T192313Z
LAST-MODIFIED:20250821T145659Z
UID:10005601-1754575200-1754578800@yourfmo.com
SUMMARY:F&G: F&G Sales Concept: Business Planning Conversations
DESCRIPTION:
URL:https://yourfmo.com/webinar/fg-fg-sales-concept-business-planning-conversations/
END:VEVENT
BEGIN:VEVENT
DTSTART;TZID=America/New_York:20250807T150000
DTEND;TZID=America/New_York:20250807T160000
DTSTAMP:20260421T130836
CREATED:20250806T192339Z
LAST-MODIFIED:20250821T145725Z
UID:10005603-1754578800-1754582400@yourfmo.com
SUMMARY:UnitedHealthcare: AdvantageGuard - Hospital Indemnity Insurance Designed to Complement Seniors’ Health Insurance Plans
DESCRIPTION:
URL:https://yourfmo.com/webinar/unitedhealthcare-advantageguard-hospital-indemnity-insurance-designed-to-complement-seniors-health-insurance-plans/
END:VEVENT
BEGIN:VEVENT
DTSTART;TZID=America/New_York:20250807T150000
DTEND;TZID=America/New_York:20250807T160000
DTSTAMP:20260421T130836
CREATED:20250806T192340Z
LAST-MODIFIED:20250821T145727Z
UID:10005604-1754578800-1754582400@yourfmo.com
SUMMARY:Wellabe | Medico: Critical Illness insurance: Coverage that matters
DESCRIPTION:
URL:https://yourfmo.com/webinar/wellabe-medico-critical-illness-insurance-coverage-that-matters/
END:VEVENT
BEGIN:VEVENT
DTSTART;TZID=America/New_York:20250807T160000
DTEND;TZID=America/New_York:20250807T170000
DTSTAMP:20260421T130836
CREATED:20250806T192341Z
LAST-MODIFIED:20250821T145728Z
UID:10005605-1754582400-1754586000@yourfmo.com
SUMMARY:Cigna Healthcare: CSB: Ordering sales materials for CSB brokers
DESCRIPTION:
URL:https://yourfmo.com/webinar/cigna-healthcare-csb-ordering-sales-materials-for-csb-brokers-2/
END:VEVENT
BEGIN:VEVENT
DTSTART;TZID=America/New_York:20250808T100000
DTEND;TZID=America/New_York:20250808T110000
DTSTAMP:20260421T130836
CREATED:20250806T192342Z
LAST-MODIFIED:20250821T145729Z
UID:10005606-1754647200-1754650800@yourfmo.com
SUMMARY:Cigna Healthcare: MA/PDP: Using our new provider directory
DESCRIPTION:
URL:https://yourfmo.com/webinar/cigna-healthcare-ma-pdp-using-our-new-provider-directory/
END:VEVENT
BEGIN:VEVENT
DTSTART;TZID=America/New_York:20250808T100000
DTEND;TZID=America/New_York:20250808T110000
DTSTAMP:20260421T130836
CREATED:20250806T192343Z
LAST-MODIFIED:20250821T145731Z
UID:10005607-1754647200-1754650800@yourfmo.com
SUMMARY:Cigna Healthcare: MA/PDP: Ordering sales materials for MA brokers
DESCRIPTION:
URL:https://yourfmo.com/webinar/cigna-healthcare-ma-pdp-ordering-sales-materials-for-ma-brokers-2/
END:VEVENT
BEGIN:VEVENT
DTSTART;TZID=America/New_York:20250808T110000
DTEND;TZID=America/New_York:20250808T120000
DTSTAMP:20260421T130836
CREATED:20250806T192409Z
LAST-MODIFIED:20250821T145755Z
UID:10005608-1754650800-1754654400@yourfmo.com
SUMMARY:EquiTrust Life: SmartBoost Index – Unlock guaranteed growth with a no-fee 40% boost
DESCRIPTION:
URL:https://yourfmo.com/webinar/equitrust-life-smartboost-index-unlock-guaranteed-growth-with-a-no-fee-40-boost-2/
END:VEVENT
BEGIN:VEVENT
DTSTART;TZID=America/New_York:20250811T160000
DTEND;TZID=America/New_York:20250811T170000
DTSTAMP:20260421T130836
CREATED:20250806T192411Z
LAST-MODIFIED:20250821T145756Z
UID:10005609-1754928000-1754931600@yourfmo.com
SUMMARY:Cigna Healthcare: MA/PDP: Compliance - A deep dive: Minimizing complaints and grievances
DESCRIPTION:
URL:https://yourfmo.com/webinar/cigna-healthcare-ma-pdp-compliance-a-deep-dive-minimizing-complaints-and-grievances/
END:VEVENT
BEGIN:VEVENT
DTSTART;TZID=America/New_York:20250812T100000
DTEND;TZID=America/New_York:20250812T110000
DTSTAMP:20260421T130836
CREATED:20250806T192413Z
LAST-MODIFIED:20250821T145758Z
UID:10005610-1754992800-1754996400@yourfmo.com
SUMMARY:Cigna Healthcare: CSB: Understanding commission statements
DESCRIPTION:
URL:https://yourfmo.com/webinar/cigna-healthcare-csb-understanding-commission-statements/
END:VEVENT
BEGIN:VEVENT
DTSTART;TZID=America/New_York:20250812T150000
DTEND;TZID=America/New_York:20250812T160000
DTSTAMP:20260421T130836
CREATED:20250806T192414Z
LAST-MODIFIED:20250821T145759Z
UID:10005611-1755010800-1755014400@yourfmo.com
SUMMARY:UnitedHealthcare: Unlocking the mystery of hospital indemnity - featuring HospitalWise
DESCRIPTION:
URL:https://yourfmo.com/webinar/unitedhealthcare-unlocking-the-mystery-of-hospital-indemnity-featuring-hospitalwise/
END:VEVENT
BEGIN:VEVENT
DTSTART;TZID=America/New_York:20250813T100000
DTEND;TZID=America/New_York:20250813T110000
DTSTAMP:20260421T130836
CREATED:20250806T192415Z
LAST-MODIFIED:20250821T145801Z
UID:10005612-1755079200-1755082800@yourfmo.com
SUMMARY:Cigna Healthcare: MA/PDP: Compliance - A deep dive: Minimizing complaints and grievances
DESCRIPTION:
URL:https://yourfmo.com/webinar/cigna-healthcare-ma-pdp-compliance-a-deep-dive-minimizing-complaints-and-grievances-2/
END:VEVENT
BEGIN:VEVENT
DTSTART;TZID=America/New_York:20250813T110000
DTEND;TZID=America/New_York:20250813T120000
DTSTAMP:20260421T130836
CREATED:20250806T192439Z
LAST-MODIFIED:20250821T145825Z
UID:10005613-1755082800-1755086400@yourfmo.com
SUMMARY:UnitedHealthcare: Effective Cross-Selling with Dental Benefits
DESCRIPTION:
URL:https://yourfmo.com/webinar/unitedhealthcare-effective-cross-selling-with-dental-benefits/
END:VEVENT
BEGIN:VEVENT
DTSTART;TZID=America/New_York:20250813T160000
DTEND;TZID=America/New_York:20250813T170000
DTSTAMP:20260421T130836
CREATED:20250806T192440Z
LAST-MODIFIED:20250821T145826Z
UID:10005614-1755100800-1755104400@yourfmo.com
SUMMARY:Cigna Healthcare: MA/PDP: Leveraging Low-Income Subsidy to help more customers
DESCRIPTION:
URL:https://yourfmo.com/webinar/cigna-healthcare-ma-pdp-leveraging-low-income-subsidy-to-help-more-customers/
END:VEVENT
BEGIN:VEVENT
DTSTART;TZID=America/New_York:20250814T100000
DTEND;TZID=America/New_York:20250814T110000
DTSTAMP:20260421T130836
CREATED:20250806T192441Z
LAST-MODIFIED:20250821T145827Z
UID:10005615-1755165600-1755169200@yourfmo.com
SUMMARY:Cigna Healthcare: All: How Cigna Healthcare Choice Accident works
DESCRIPTION:
URL:https://yourfmo.com/webinar/cigna-healthcare-all-how-cigna-healthcare-choice-accident-works/
END:VEVENT
BEGIN:VEVENT
DTSTART;TZID=America/New_York:20250814T110000
DTEND;TZID=America/New_York:20250814T120000
DTSTAMP:20260421T130836
CREATED:20250806T192442Z
LAST-MODIFIED:20250821T145828Z
UID:10005616-1755169200-1755172800@yourfmo.com
SUMMARY:UnitedHealthcare: Boost Your Sales with Accident and Critical Illness Plans
DESCRIPTION:
URL:https://yourfmo.com/webinar/unitedhealthcare-boost-your-sales-with-accident-and-critical-illness-plans/
END:VEVENT
BEGIN:VEVENT
DTSTART;TZID=America/New_York:20250814T110000
DTEND;TZID=America/New_York:20250814T120000
DTSTAMP:20260421T130836
CREATED:20250806T192443Z
LAST-MODIFIED:20250821T145829Z
UID:10005617-1755169200-1755172800@yourfmo.com
SUMMARY:SAYBUS | SILAC: TETON 5 & TETON 5 BONUS – Case Study
DESCRIPTION:
URL:https://yourfmo.com/webinar/saybus-silac-teton-5-teton-5-bonus-case-study/
END:VEVENT
END:VCALENDAR